BEGIN:VCALENDAR
VERSION:2.0
PRODID:-//Wisconsin Institute for Discovery - ECPv6.5.0//NONSGML v1.0//EN
CALSCALE:GREGORIAN
METHOD:PUBLISH
X-WR-CALNAME:Wisconsin Institute for Discovery
X-ORIGINAL-URL:https://wid.wisc.edu
X-WR-CALDESC:Events for Wisconsin Institute for Discovery
REFRESH-INTERVAL;VALUE=DURATION:PT1H
X-Robots-Tag:noindex
X-PUBLISHED-TTL:PT1H
BEGIN:VTIMEZONE
TZID:America/Chicago
BEGIN:DAYLIGHT
TZOFFSETFROM:-0600
TZOFFSETTO:-0500
TZNAME:CDT
DTSTART:20230312T080000
END:DAYLIGHT
BEGIN:STANDARD
TZOFFSETFROM:-0500
TZOFFSETTO:-0600
TZNAME:CST
DTSTART:20231105T070000
END:STANDARD
BEGIN:DAYLIGHT
TZOFFSETFROM:-0600
TZOFFSETTO:-0500
TZNAME:CDT
DTSTART:20240310T080000
END:DAYLIGHT
BEGIN:STANDARD
TZOFFSETFROM:-0500
TZOFFSETTO:-0600
TZNAME:CST
DTSTART:20241103T070000
END:STANDARD
BEGIN:DAYLIGHT
TZOFFSETFROM:-0600
TZOFFSETTO:-0500
TZNAME:CDT
DTSTART:20250309T080000
END:DAYLIGHT
BEGIN:STANDARD
TZOFFSETFROM:-0500
TZOFFSETTO:-0600
TZNAME:CST
DTSTART:20251102T070000
END:STANDARD
END:VTIMEZONE
BEGIN:VEVENT
DTSTART;TZID=America/Chicago:20251023T190000
DTEND;TZID=America/Chicago:20251023T200000
DTSTAMP:20260422T075328
CREATED:20250925T010511Z
LAST-MODIFIED:20251023T041946Z
UID:10000826-1761246000-1761249600@wid.wisc.edu
SUMMARY:Michelle Thaller: Cosmic Treasures
DESCRIPTION:Chasing Asteroids for Clues to the Origins of Life\n\n\nJoin Michelle Thaller\, former NASA science communicator\, for an evening exploring the origins of life. Thaller\, in conversation with Eric Wilcots\, Dean of the College of Letters & Sciences and Professor in the Dept of Astronomy\, will talk about the OSIRIS-REx mission – an audacious project to return a sample from an asteroid. No problem\, right? Just chase down a small rock 200 million miles away\, traveling literally faster than a speeding bullet\, vacuum up a sample of its surface\, and shoot it back to Earth. The story turned out to be more difficult\, dramatic\, and rewarding than anyone expected. Join us to find out why we went to so much trouble to bring back an ancient sample of our solar system and what was waiting inside that absolutely blew our minds. This event will take place in the DeLuca Forum in the Discovery Building.
URL:https://wid.wisc.edu/event/michelle-thaller-cosmic-treasures/
LOCATION:Discovery Building\, 330 North Orchard Street\, De Luca Forum\, Madison\, WI\, 53715\, United States
CATEGORIES:Wisconsin Science Festival
ATTACH;FMTTYPE=image/jpeg:https://wid.wisc.edu/wp-content/uploads/2025/09/2d25408d68023de9c68d3c0ddc58f1de.jpg
END:VEVENT
BEGIN:VEVENT
DTSTART;TZID=America/Chicago:20251021T190000
DTEND;TZID=America/Chicago:20251021T210000
DTSTAMP:20260422T075328
CREATED:20250804T193444Z
LAST-MODIFIED:20251021T153100Z
UID:10000788-1761073200-1761080400@wid.wisc.edu
SUMMARY:The WhySci Variety Show
DESCRIPTION:The most science-inspired variety show in town! Produced by the Wisconsin Science Festival and the UW-Madison Division of the Arts.\n\n\nGet ready to rock your curiosity at the Why Sci Variety Show—a high-energy mashup of science talks\, artful performances\, and live music! This year’s theme is Rock and Roll\, so expect brainy beats\, geology jokes\, and scientific showmanship that will have you thinking and tapping your toes. \nHosted by the always-entertaining Ben Rush and featuring tunes from our live house band: David Hecht & The Who Dat\, this is edu-tainment at its finest. From ancient rocks to musical molecules\, science and art collide in unexpected ways during this one-of-a-kind show. \nDoors and bar open at 6:30pm – show starts at 7pm. \nRegister for your free tickets now! \nProduced in partnership with the UW-Madison Division of the Arts and with support from The Anonymous Fund.
URL:https://wid.wisc.edu/event/the-whysci-variety-show/
LOCATION:Majestic Theatre\, 115 King Street\, Madison\, WI\, 53703\, United States
CATEGORIES:Wisconsin Science Festival
ATTACH;FMTTYPE=image/png:https://wid.wisc.edu/wp-content/uploads/2025/08/WhySci-Variety-Show-2025-4-16-9.png
END:VEVENT
BEGIN:VEVENT
DTSTART;TZID=America/Chicago:20250430T190000
DTEND;TZID=America/Chicago:20250430T210000
DTSTAMP:20260422T075328
CREATED:20250204T181710Z
LAST-MODIFIED:20250430T110350Z
UID:10000718-1746039600-1746046800@wid.wisc.edu
SUMMARY:Sci-prov
DESCRIPTION:Science Meets Improv Comedy\n\n\nJoin the Illuminating Discovery Hub and Amalgam Improv for an evening fusing science and spontaneous improv comedy like no other at Sci-Prov! \nSci-prov combines science and improv in creative\, funny\, and never before seen ways. Scientists Laura Hernandez and Leslie Holland will present their work in short\, digestible presentations followed by brief Q&A\, all of which can become fodder for the improv scenes. The improv scenes are created on the fly & unique to each show. \nLight refreshments and cash bar available. Tickets are free and registration is requested to ensure adequate seating. \n\n\nParking: The closest parking ramps to the Discovery building are Lot 80 (Union South)\, lot 20 (Medical Science Center)\, and Lot 17 (Engineering/Camp Randall). Additional surface lots are also available. Please see the campus parking and transportation map for complete options. \n \nBus: The closest bus stop westbound is University & North Orchard (A\, C\, D\, F\, J\, O\, R)\, and eastbound is Campus at Babcock (A\, C\, F J\, R). Free campus route 80 also stops at University & North Orchard \n\n\nWe value inclusion and access for all participants. If you would like to request reasonable accommodations to enhance your participation experience\, please email idhub@wid.wisc.edu no later than 2 weeks prior to the event. This event is wheelchair accessible.
URL:https://wid.wisc.edu/event/sci-prov/
LOCATION:Discovery Building\, 330 North Orchard Street\, De Luca Forum\, Madison\, WI\, 53715\, United States
CATEGORIES:Wisconsin Science Festival
ATTACH;FMTTYPE=image/jpeg:https://wid.wisc.edu/wp-content/uploads/2025/02/061cec8da28f3f2fe249c90d81507736.jpg
END:VEVENT
BEGIN:VEVENT
DTSTART;TZID=America/Chicago:20241016T180000
DTEND;TZID=America/Chicago:20241016T193000
DTSTAMP:20260422T075328
CREATED:20240816T212105Z
LAST-MODIFIED:20241016T152107Z
UID:10000648-1729101600-1729107000@wid.wisc.edu
SUMMARY:MadPrompts: Creativity Unleashed
DESCRIPTION:MadPrompts is back! Join us at the Wisconsin Science Festival for an evening of creativity and innovation\, where contestants race against the clock to create winning images using generative AI.\nCONTACT: cecarusi@wisc.edu\nURL: https://www.eventbrite.com/e/madprompts-creativity-unleashed-tickets-993842538787?aff=oddtdtcreator
URL:https://wid.wisc.edu/event/madprompts-creativity-unleashed/
LOCATION:Wisconsin Institutes for Discovery\, DeLuca Forum
CATEGORIES:Wisconsin Science Festival
ATTACH;FMTTYPE=image/png:https://wid.wisc.edu/wp-content/uploads/2024/08/Screenshot-2024-08-29-at-3.06.21 PM.png
END:VEVENT
BEGIN:VEVENT
DTSTART;TZID=America/Chicago:20241015T190000
DTEND;TZID=America/Chicago:20241015T210000
DTSTAMP:20260422T075328
CREATED:20240912T122107Z
LAST-MODIFIED:20241015T192108Z
UID:10000675-1729018800-1729026000@wid.wisc.edu
SUMMARY:Big Ideas for Busy People: Fields of Wonder
DESCRIPTION:A celebration at the intersection of art and science. Nerdy talks\, performances\, Adult Swim crafts\, prizes\, and more!\n\n\nDoors and bar open at 6:30pm\, event takes place 7-9pm. Mark your calendars for a unique\, interactive event! \nJoin the Wisconsin Science Festival and friends for an unforgettable night at the intersection of art and science. Hear flash talks from incredible scientists on an array of topics\, enjoy dance performances supported by the UW-Madison Division of the Arts\, take in the musical wonder of the fiddle\, and get creative with crafts led by the Madison Children’s Museum Adult Swim team. \nThis event is free and in town for one-night-only. You won’t want to miss it! \nClick here to view the full presenter information! \n\n\nEmcee: Ben Rush\, PhD\, MPH \nScience Presenters: Leah Elson\, DJ LeClear\, Ania Bialic\, & Izzy Ross \nMusical Interludes: Daithi Wolfe (fiddle) \nDance Performances: Guy Thorne and the MUKULA Indian Dance group
URL:https://wid.wisc.edu/event/big-ideas-for-busy-people-fields-of-wonder/
LOCATION:Majestic Theatre\, 115 King Street\, Madison\, WI\, 53703\, United States
CATEGORIES:Wisconsin Science Festival
ATTACH;FMTTYPE=image/jpeg:https://wid.wisc.edu/wp-content/uploads/2024/09/8d1fe41ac106bae5f0b35228f27fea06.jpg
END:VEVENT
BEGIN:VEVENT
DTSTART;TZID=America/Chicago:20241014T190000
DTEND;TZID=America/Chicago:20241014T200000
DTSTAMP:20260422T075328
CREATED:20240829T213610Z
LAST-MODIFIED:20241014T222114Z
UID:10000666-1728932400-1728936000@wid.wisc.edu
SUMMARY:Crossroads of Ideas: Wisconsin's Role in Shaping the Future of Agriculture
DESCRIPTION:Glenda Gillaspy (UW-Madison College of Agriculture and Life Sciences) moderates a lively panel discussion.\n\n\nThis engaging panel discussion will take a deeper look into the innovation and tradition of Wisconsin agriculture and the opportunities and challenges we face at the leading edge of sustainable systems. Moderated by Dr. Glenda Gillaspy\, Dean of UW-Madison College of Agricultural and Life Sciences\, and featuring researchers who are helping establish Wisconsin as the leader in agricultural advancement and innovation. \nPanelists: \n\nDr. Julie Dawson – Professor in the UW-Madison Department of Plant and Agroecosystem Sciences and Extension Specialist for Regional Food Systems. Research and extension interests include plant breeding for organic systems and participatory research in regional food systems. She is an academic cooperator with the USDA on the Farmer Seed Liaison initiative\, focused on promoting fair competition and innovation in the seed industry.\nDr. Randy Jackson – Joined the Department of Agronomy (now the Department of Plant & Agroecosystem Sciences) at UW-Madison in 2003. Jackson teaches Grassland Ecology and co-instructs Agroecology-An Introduction to the Ecology of Food and Agriculture. His grassland ecology group studies how carbon and nutrients flow into\, within\, and out of grassland ecosystems\, including prairie\, pasture\, and row-crop communities.\nDr. Rebecca Smith – Assistant professor of plant and agroecosystem sciences at the University of Wisconsin–Madison and a researcher with the Wisconsin Energy Institute and the Great Lakes Bioenergy Research Center (GLBRC). Smith’s research focuses on how to make alter the plant cell wall to improve plant digestibility\, animal nutrition\, and dairy sustainability.\nDr. Shawn Conley – Professor and the State Soybean and Small Grain Specialist at the University of Wisconsin\, Madison. Conley leads the UW Soybean Research Program “a.k.a. The UW BeanTeam” and actively collaborates across all disciplines to generate science-based solutions to address real world problems in soybean and small grain production systems.\n\nLink to full presenter bios. \nThis is a free event – registration is requested to ensure adequate seating. \n \n\n\nWe value inclusion and access for all participants. If you would like to request reasonable accommodations to enhance your participation experience\, please email idhub@wid.wisc.edu no later than 2 weeks prior to the event. This event is wheelchair accessible.
URL:https://wid.wisc.edu/event/crossroads-of-ideas-wisconsins-role-in-shaping-the-future-of-ag/
LOCATION:Discovery Building\, 330 North Orchard Street\, De Luca Forum\, Madison\, WI\, 53715\, United States
CATEGORIES:Crossroads,Featured,Wisconsin Science Festival
ATTACH;FMTTYPE=image/jpeg:https://wid.wisc.edu/wp-content/uploads/2024/09/3afa8267bae1ec4788831d03e8a639f0.jpg
END:VEVENT
BEGIN:VEVENT
DTSTART;TZID=America/Chicago:20241014T174500
DTEND;TZID=America/Chicago:20241014T183000
DTSTAMP:20260422T075328
CREATED:20240912T122105Z
LAST-MODIFIED:20241014T192109Z
UID:10000674-1728927900-1728930600@wid.wisc.edu
SUMMARY:Weaving Tradition: Menominee Basketry and the Legacy of Ash
DESCRIPTION:Learn time-honored techniques at a workshop on traditional Menominee basket weaving led by Sherri LaChapelle-Corn (Pitapanukiw).\n\n\nThis hands-on experience delves into the cultural significance of basketry\, highlighting its role in preserving Menominee heritage. Additionally\, gain insight into the ecological challenges posed by the emerald ash borer insect\, which threatens the very materials essential to this craft. Discover the importance of sustaining these practices and the efforts to protect and rejuvenate the resources vital to Menominee culture. \nBefore and after the workshop\, stop by the interactive gallery at the Discovery Building featuring intricate woven works of art created by workshop host Sherri LaChapelle-Corn (Pitapanukiw). \nREGISTRATION REQUIREDCapacity is limited so please contact event host to notify of any registration cancellations.
URL:https://wid.wisc.edu/event/weaving-tradition-menominee-basketry-and-the-legacy-of-ash/
LOCATION:Discovery Building\, 330 North Orchard Street\, De Luca Forum\, Madison\, WI\, 53715\, United States
CATEGORIES:Featured,Wisconsin Science Festival
ATTACH;FMTTYPE=image/jpeg:https://wid.wisc.edu/wp-content/uploads/2024/09/2243c5b1f97a9d3d4d234ae7efe1bc7b.jpg
END:VEVENT
BEGIN:VEVENT
DTSTART;TZID=America/Chicago:20241009T160000
DTEND;TZID=America/Chicago:20241009T190000
DTSTAMP:20260422T075328
CREATED:20240911T172107Z
LAST-MODIFIED:20241009T222106Z
UID:10000673-1728489600-1728500400@wid.wisc.edu
SUMMARY:Celebrating Latinx voices in STEAM
DESCRIPTION:Viva Hispanic Heritage Month. Join us for the “Celebrating Latinx voices in STEAM” symposium on Wednesday October 9 2024 (4-7pm CT) in the DeLuca forum in the Discovery Building.  Featuring keynote speaker Mexican-American interdisciplinary artist and educator Christie Tirado and music with DJ Papi. Light refreshments will be served.\nCONTACT: 316-4511\, lredeagle@wisc.edu\nURL: https://solislemuslab.github.io/latinx-uwmadison/
URL:https://wid.wisc.edu/event/celebrating-latinx-voices-in-steam/
LOCATION:H.F. DeLuca Forum\, Discovery Building
CATEGORIES:Featured,Wisconsin Science Festival
ATTACH;FMTTYPE=image/png:https://wid.wisc.edu/wp-content/uploads/2024/09/24LatinxInSTEAMscreens_160-x-90.png
END:VEVENT
BEGIN:VEVENT
DTSTART;TZID=America/Chicago:20231022T103000
DTEND;TZID=America/Chicago:20231022T113000
DTSTAMP:20260422T075328
CREATED:20230920T214725Z
LAST-MODIFIED:20230920T214725Z
UID:10000558-1697970600-1697974200@wid.wisc.edu
SUMMARY:Crossroads of Ideas – Comparing the Creative Process in Science and Art
DESCRIPTION:There is more overlap between scientific research and creative writing than you may think! Both involve a process of research\, creative thought and storytelling\, and in this panel we will discuss what these disciplines have in common and what each can take from the other. Acclaimed novelist Chloe Benjamin (THE IMMORTALISTS) uses science to inform her fiction\, while data scientist and statistician Claudia Solis-Lemus writes fiction and memoir when she isn’t researching evolutionary biology and microbiome. Moderated by novelist and WID writer in residence Michelle Wildgen. \n\nChloe Benjamin is the author of The Immortalists\, a New York Times bestseller\, and The Anatomy of Dreams. \nA Barnes & Noble Discover Great New Writers selection\, LibraryReads favorite\, and #1 Indie Next pick\, The Immortalists was named a best book of 2018 by NPR\, The Washington Post\, Entertainment Weekly\, and others.\nThe Anatomy of Dreams received the Edna Ferber Fiction Book Award and was long listed for the 2014 Center for Fiction First Novel Prize. \nOriginally from San Francisco\, CA\, Chloe is a graduate of Vassar College and the M.F.A. in fiction at the University of Wisconsin. Her work has been translated into over thirty languages. She lives with her husband and two Maine Coon cats in Madison\, WI\, where she is at work on a third novel. \n\n  \n \nClaudia Solís-Lemus is an assistant professor at the Wisconsin Institute for Discovery and the Department of Plant Pathology at the University of Wisconsin-Madison. Originally from Mexico City\, she did her Undergraduate degrees in Actuarial Sciences and Applied Mathematics at ITAM. She then earned an MA in Mathematics and a PhD in Statistics at the University of Wisconsin-Madison.\n\n\n\n\n\n  \n\n\n\n\n  \nMichelle Wildgen is the author of four novels\, most recently WINE PEOPLE\, published in August. Her first novel\, YOU’RE NOT YOU\, was an NYT Editor’s Choice and was adapted into a film starring Hilary Swank and Emmy Rossum. She is currently a writer in residence at WID\, and cofounded the Madison Writer’s Studio with novelist Susanna Daniel in 2013. Her work has appeared in the New York Times Modern Love column and Book Review\, O Magazine\, Best Food Writing\, and elsewhere. \n\n\nInstagram: mswildgen \n\n\nSeating is limited. Get your tickets here.
URL:https://wid.wisc.edu/event/crossroads-of-ideas-comparing-the-creative-process-in-science-and-art/
LOCATION:Madison Central Library\, Community Room 302\, 201 W. Mifflin St.\, Madison\, WI\, 53703\, United States
CATEGORIES:Crossroads,Event,Wisconsin Science Festival
ATTACH;FMTTYPE=image/png:https://wid.wisc.edu/wp-content/uploads/2023/09/scienceDoodles-e1692286059498-rAhNdU.tmp_.png
END:VEVENT
BEGIN:VEVENT
DTSTART;VALUE=DATE:20231022
DTEND;VALUE=DATE:20231023
DTSTAMP:20260422T075328
CREATED:20221130T180215Z
LAST-MODIFIED:20230215T183226Z
UID:10000051-1697932800-1698019199@wid.wisc.edu
SUMMARY:Wisconsin Science Festival
DESCRIPTION:*Note: actual end time may vary.*\n Curiosity Unleashed!. Held across campus and throughout Wisconsin\, the weeklong festival is packed with activities for people of all ages. Events include hands-on science exhibitions\, demonstrations\, performances\, tours\, pub nights\, workshops and more.\nCONTACT: 316-4382\, towncenter@warf.org\nURL: http://WiSciFest.org\nONLINE: https://wiscifest.org
URL:https://wid.wisc.edu/event/wisconsin-science-festival-7/
LOCATION:Throughout Wisconsin  (Also offered online)
CATEGORIES:Wisconsin Science Festival
END:VEVENT
BEGIN:VEVENT
DTSTART;VALUE=DATE:20231021
DTEND;VALUE=DATE:20231022
DTSTAMP:20260422T075328
CREATED:20230920T214741Z
LAST-MODIFIED:20230920T214741Z
UID:10000585-1697846400-1697932799@wid.wisc.edu
SUMMARY:Wisconsin Science Festival
DESCRIPTION:*Note: actual end time may vary.*\n Curiosity Unleashed!. Held across campus and throughout Wisconsin\, the weeklong festival is packed with activities for people of all ages. Events include hands-on science exhibitions\, demonstrations\, performances\, tours\, pub nights\, workshops and more.\nCONTACT: 316-4390\, info@wiscifest.org\nURL: http://WiSciFest.org\nONLINE: https://wiscifest.org
URL:https://wid.wisc.edu/event/wisconsin-science-festival-12/
LOCATION:Throughout Wisconsin  (Also offered online)
CATEGORIES:Wisconsin Science Festival
ATTACH;FMTTYPE=image/png:https://wid.wisc.edu/wp-content/uploads/2023/09/WSF169-sd8unQ.tmp_.png
END:VEVENT
BEGIN:VEVENT
DTSTART;TZID=America/Chicago:20231020T193000
DTEND;TZID=America/Chicago:20231020T210000
DTSTAMP:20260422T075328
CREATED:20230920T214719Z
LAST-MODIFIED:20230920T214719Z
UID:10000557-1697830200-1697835600@wid.wisc.edu
SUMMARY:SoundWaves: Celebrations of Time\, pt 1
DESCRIPTION:presented by Wisconsin Science Festival \nThis year\, SoundWaves will be looking back to milestones from the past as a springboard to learn about our world today. At this opening event of the year\, learn about beer and wine\, about museums\, about radio\, about the flute\, and more at our first Celebrations of Time event. \nVictor Ujor\, food science \nTom Dale\, art history \nJim Reardon\, physics \nConor Nelson\, music \nDaniel Grabois\, SoundWaves Curator \nEvent is free of charge but registration is requested as space is limited. \nFood and beverage available for purchase at Steenbock’s on Orchard until 7:30pm. \n Register now> 
URL:https://wid.wisc.edu/event/soundwaves-celebrations-of-time-pt-1/
LOCATION:DeLuca Forum\, Discovery Building\, 330 N. Orchard Street\, Madison\, United States
CATEGORIES:SoundWaves,Wisconsin Science Festival
ATTACH;FMTTYPE=image/png:https://wid.wisc.edu/wp-content/uploads/2023/09/Celebration-of-time-e1692306569212-Pz7SKv.tmp_.png
END:VEVENT
BEGIN:VEVENT
DTSTART;VALUE=DATE:20231020
DTEND;VALUE=DATE:20231021
DTSTAMP:20260422T075328
CREATED:20230920T214740Z
LAST-MODIFIED:20230920T214740Z
UID:10000584-1697760000-1697846399@wid.wisc.edu
SUMMARY:Wisconsin Science Festival
DESCRIPTION:*Note: actual end time may vary.*\n Curiosity Unleashed!. Held across campus and throughout Wisconsin\, the weeklong festival is packed with activities for people of all ages. Events include hands-on science exhibitions\, demonstrations\, performances\, tours\, pub nights\, workshops and more.\nCONTACT: 316-4390\, info@wiscifest.org\nURL: http://WiSciFest.org\nONLINE: https://wiscifest.org
URL:https://wid.wisc.edu/event/wisconsin-science-festival-11/
LOCATION:Throughout Wisconsin  (Also offered online)
CATEGORIES:Wisconsin Science Festival
ATTACH;FMTTYPE=image/png:https://wid.wisc.edu/wp-content/uploads/2023/09/WSF169-sd8unQ.tmp_.png
END:VEVENT
BEGIN:VEVENT
DTSTART;VALUE=DATE:20231019
DTEND;VALUE=DATE:20231020
DTSTAMP:20260422T075328
CREATED:20230920T214715Z
LAST-MODIFIED:20230922T161106Z
UID:10000553-1697673600-1697759999@wid.wisc.edu
SUMMARY:Wisconsin Science Festival
DESCRIPTION:*Note: actual end time may vary.*\nCuriosity Unleashed!. Held across campus and throughout Wisconsin\, the weeklong festival is packed with activities for people of all ages. Events include hands-on science exhibitions\, demonstrations\, performances\, tours\, pub nights\, workshops and more.\nCONTACT: 316-4390\, info@wiscifest.org\nURL: http://WiSciFest.org\nONLINE: https://wiscifest.org
URL:https://wid.wisc.edu/event/wisconsin-science-festival-8/
LOCATION:Throughout Wisconsin  (Also offered online)
CATEGORIES:Wisconsin Science Festival
ATTACH;FMTTYPE=image/png:https://wid.wisc.edu/wp-content/uploads/2023/09/WSF169-sd8unQ.tmp_.png
END:VEVENT
BEGIN:VEVENT
DTSTART;VALUE=DATE:20231018
DTEND;VALUE=DATE:20231019
DTSTAMP:20260422T075328
CREATED:20230920T214740Z
LAST-MODIFIED:20230922T161539Z
UID:10000583-1697587200-1697673599@wid.wisc.edu
SUMMARY:Wisconsin Science Festival
DESCRIPTION:*Note: actual end time may vary.*\n Curiosity Unleashed!. Held across campus and throughout Wisconsin\, the weeklong festival is packed with activities for people of all ages. Events include hands-on science exhibitions\, demonstrations\, performances\, tours\, pub nights\, workshops and more.\nCONTACT: 316-4390\, info@wiscifest.org\nURL: http://WiSciFest.org\nONLINE: https://wiscifest.org
URL:https://wid.wisc.edu/event/wisconsin-science-festival-10/
LOCATION:Throughout Wisconsin  (Also offered online)
CATEGORIES:Wisconsin Science Festival
ATTACH;FMTTYPE=image/png:https://wid.wisc.edu/wp-content/uploads/2023/09/WSF169-sd8unQ.tmp_.png
END:VEVENT
BEGIN:VEVENT
DTSTART;TZID=America/Chicago:20231017T190000
DTEND;TZID=America/Chicago:20231017T210000
DTSTAMP:20260422T075328
CREATED:20230920T214716Z
LAST-MODIFIED:20230920T214716Z
UID:10000554-1697569200-1697576400@wid.wisc.edu
SUMMARY:The End Is Nye – Midnight at Noon
DESCRIPTION:
URL:https://wid.wisc.edu/event/the-end-is-nye-midnight-at-noon/
LOCATION:Union South – Marquee Theater\, 1308 W Dayton St #245\, Madison\, WI\, 53715\, United States
CATEGORIES:Wisconsin Science Festival
ATTACH;FMTTYPE=image/jpeg:https://wid.wisc.edu/wp-content/uploads/2023/09/Twitter-OLfnSU.tmp_.jpg
END:VEVENT
BEGIN:VEVENT
DTSTART;VALUE=DATE:20231017
DTEND;VALUE=DATE:20231018
DTSTAMP:20260422T075328
CREATED:20230920T214739Z
LAST-MODIFIED:20230922T161527Z
UID:10000582-1697500800-1697587199@wid.wisc.edu
SUMMARY:Wisconsin Science Festival
DESCRIPTION:*Note: actual end time may vary.*\n Curiosity Unleashed!. Held across campus and throughout Wisconsin\, the weeklong festival is packed with activities for people of all ages. Events include hands-on science exhibitions\, demonstrations\, performances\, tours\, pub nights\, workshops and more.\nCONTACT: 316-4390\, info@wiscifest.org\nURL: http://WiSciFest.org\nONLINE: https://wiscifest.org
URL:https://wid.wisc.edu/event/wisconsin-science-festival-9/
LOCATION:Throughout Wisconsin  (Also offered online)
CATEGORIES:Wisconsin Science Festival
ATTACH;FMTTYPE=image/png:https://wid.wisc.edu/wp-content/uploads/2023/09/WSF169-sd8unQ.tmp_.png
END:VEVENT
BEGIN:VEVENT
DTSTART;VALUE=DATE:20231016
DTEND;VALUE=DATE:20231017
DTSTAMP:20260422T075328
CREATED:20221130T180214Z
LAST-MODIFIED:20230920T221138Z
UID:10000045-1697414400-1697500799@wid.wisc.edu
SUMMARY:Wisconsin Science Festival
DESCRIPTION:*Note: actual end time may vary.*\nCuriosity Unleashed!. Held across campus and throughout Wisconsin\, the weeklong festival is packed with activities for people of all ages. Events include hands-on science exhibitions\, demonstrations\, performances\, tours\, pub nights\, workshops and more.\nCONTACT: 316-4382\, towncenter@warf.org\nURL: http://WiSciFest.org\nONLINE: https://wiscifest.org
URL:https://wid.wisc.edu/event/wisconsin-science-festival/
LOCATION:Throughout Wisconsin  (Also offered online)
CATEGORIES:Wisconsin Science Festival
ATTACH;FMTTYPE=image/png:https://wid.wisc.edu/wp-content/uploads/2023/09/WSF169-sd8unQ.tmp_.png
END:VEVENT
END:VCALENDAR