BEGIN:VCALENDAR
VERSION:2.0
PRODID:-//Wisconsin Institute for Discovery - ECPv6.5.0//NONSGML v1.0//EN
CALSCALE:GREGORIAN
METHOD:PUBLISH
X-ORIGINAL-URL:https://wid.wisc.edu
X-WR-CALDESC:Events for Wisconsin Institute for Discovery
REFRESH-INTERVAL;VALUE=DURATION:PT1H
X-Robots-Tag:noindex
X-PUBLISHED-TTL:PT1H
BEGIN:VTIMEZONE
TZID:America/Chicago
BEGIN:DAYLIGHT
TZOFFSETFROM:-0600
TZOFFSETTO:-0500
TZNAME:CDT
DTSTART:20260308T080000
END:DAYLIGHT
BEGIN:STANDARD
TZOFFSETFROM:-0500
TZOFFSETTO:-0600
TZNAME:CST
DTSTART:20261101T070000
END:STANDARD
END:VTIMEZONE
BEGIN:VEVENT
DTSTART;TZID=America/Chicago:20260515T120000
DTEND;TZID=America/Chicago:20260515T130000
DTSTAMP:20260419T103039
CREATED:20260418T232756Z
LAST-MODIFIED:20260418T232757Z
UID:10000932-1778846400-1778850000@wid.wisc.edu
SUMMARY:Geospatial Data Science Speaker Series: Dr. Yun Hang
DESCRIPTION:From Space to Health: Satellites and AI for Environmental Exposure Assessment. Hosted by the GeoDS Lab@UW-Madison Co-sponsored by the UW-Madison Data Science Institute. Guest Speaker: Dr. Yun Hang\, Assistant Professor at UTHealth Houston.  Abstract: This talk will introduce a spatial data science approach that integrates satellite data with classical machine learning models to assess environmental exposures from local community to global scales.\nCONTACT: 262-2139\, song.gao@wisc.edu\nURL: https://geography.wisc.edu/geods/
URL:https://wid.wisc.edu/event/geospatial-data-science-speaker-series-dr-yun-hang/
LOCATION:140 Science Hall
END:VEVENT
END:VCALENDAR