BEGIN:VCALENDAR
VERSION:2.0
PRODID:-//Wisconsin Institute for Discovery - ECPv6.5.0//NONSGML v1.0//EN
CALSCALE:GREGORIAN
METHOD:PUBLISH
X-WR-CALNAME:Wisconsin Institute for Discovery
X-ORIGINAL-URL:https://wid.wisc.edu
X-WR-CALDESC:Events for Wisconsin Institute for Discovery
REFRESH-INTERVAL;VALUE=DURATION:PT1H
X-Robots-Tag:noindex
X-PUBLISHED-TTL:PT1H
BEGIN:VTIMEZONE
TZID:America/Chicago
BEGIN:DAYLIGHT
TZOFFSETFROM:-0600
TZOFFSETTO:-0500
TZNAME:CDT
DTSTART:20250309T080000
END:DAYLIGHT
BEGIN:STANDARD
TZOFFSETFROM:-0500
TZOFFSETTO:-0600
TZNAME:CST
DTSTART:20251102T070000
END:STANDARD
BEGIN:DAYLIGHT
TZOFFSETFROM:-0600
TZOFFSETTO:-0500
TZNAME:CDT
DTSTART:20260308T080000
END:DAYLIGHT
BEGIN:STANDARD
TZOFFSETFROM:-0500
TZOFFSETTO:-0600
TZNAME:CST
DTSTART:20261101T070000
END:STANDARD
END:VTIMEZONE
BEGIN:VEVENT
DTSTART;TZID=America/Chicago:20260227T193000
DTEND;TZID=America/Chicago:20260227T210000
DTSTAMP:20260422T074049
CREATED:20251105T051948Z
LAST-MODIFIED:20260227T180855Z
UID:10000844-1772220600-1772226000@wid.wisc.edu
SUMMARY:SoundWaves: Macro Scale
DESCRIPTION:This academic year\, SoundWaves is exploring scales. In this second edition\, we will be zooming out to the macro scale!
URL:https://wid.wisc.edu/event/soundwaves-macro-scale/
LOCATION:Hamel Music Center\, 740 University Avenue\, Madison\, WI\, 53706\, United States
CATEGORIES:SoundWaves
ATTACH;FMTTYPE=image/jpeg:https://wid.wisc.edu/wp-content/uploads/2025/11/bc2278461b7bff868e4cf3d8c9e94cc7.jpg
END:VEVENT
BEGIN:VEVENT
DTSTART;TZID=America/Chicago:20251114T193000
DTEND;TZID=America/Chicago:20251114T210000
DTSTAMP:20260422T074049
CREATED:20250823T223444Z
LAST-MODIFIED:20251114T054942Z
UID:10000802-1763148600-1763154000@wid.wisc.edu
SUMMARY:SoundWaves: Micro Scale
DESCRIPTION:This academic year\, SoundWaves is exploring scales. In this second edition\, we will be zooming in on the micro scale!\n\n\nOur second SoundWaves event of the season explores the Micro Scale\, looking at things that are very small in size. What is a microbiome? What’s going on in the Earth’s water? What is microeconomics? What happens when you look at rhythm and pitch on a micro scale? Find out at SoundWaves.
URL:https://wid.wisc.edu/event/soundwaves-exploring-scales-2/
LOCATION:Hamel Music Center\, 740 University Avenue\, Madison\, WI\, 53706\, United States
CATEGORIES:SoundWaves
ATTACH;FMTTYPE=image/jpeg:https://wid.wisc.edu/wp-content/uploads/2025/08/f6681d361bfa864bb6940386e87418f4.jpg
END:VEVENT
BEGIN:VEVENT
DTSTART;TZID=America/Chicago:20251025T193000
DTEND;TZID=America/Chicago:20251025T210000
DTSTAMP:20260422T074049
CREATED:20250822T222422Z
LAST-MODIFIED:20251025T043446Z
UID:10000801-1761420600-1761426000@wid.wisc.edu
SUMMARY:SoundWaves: Atomic Scale
DESCRIPTION:This academic year\, SoundWaves is exploring scales. Join us for this first edition diving into the atomic scale – and Klezmer scales!\n\n\nGaze into the world of the unimaginably small with an evening exploring the atomic scale. What is quantum computing and how does it work? How do atoms in metals organize themselves into hierarchies? As part of Klez Fest Midwest\, this special SoundWaves event will feature more live music than ever\, with the duo of Krakauer & Tagg\, featuring brilliant klezmer clarinetist David Krakauer and pianist Kathleen Tagg\, performing and explaining what gives klezmer music its characteristic style and sound (it’s all in the scales!).
URL:https://wid.wisc.edu/event/soundwaves-exploring-scales/
LOCATION:Hamel Music Center\, 740 University Avenue\, Madison\, WI\, 53706\, United States
CATEGORIES:SoundWaves
ATTACH;FMTTYPE=image/jpeg:https://wid.wisc.edu/wp-content/uploads/2025/08/54fc2af96ab969eb5dd0d9eedecdf8f8.jpg
END:VEVENT
BEGIN:VEVENT
DTSTART;TZID=America/Chicago:20250411T193000
DTEND;TZID=America/Chicago:20250411T210000
DTSTAMP:20260422T074049
CREATED:20240829T092111Z
LAST-MODIFIED:20250411T073841Z
UID:10000664-1744399800-1744405200@wid.wisc.edu
SUMMARY:SoundWaves: Developing Ideas\, Part 4
DESCRIPTION:Explore how trends\, plans\, viewpoints\, projects\, materials\, and sounds develop.  Where we are and where we might be headed in the future.\n\n\nIn the final chapter of the Development series\, SoundWaves asks: Why are eggs so expensive? How do you create a video game? How do plants respond to climate change? How do you tell a short story in music? \nAndrew Stevens Economics of Agriculture \nGary Dahl\, Computer Sciences \nJack Williams\, Geography \nChristopher Taylor\, piano\, Music \nDaniel Grabois\, Music \n\n\nSoundWaves combines scientific lectures about the world with live classical music performances. Each event revolves around a theme\, exploring it first from many scientific angles and then through the lens of music. The program concludes with a live performance of music related to the evening’s theme. \n \nThis event will take place in Mead Witter Hall inside the Hamel Music Center. This is a free event\, however registration is requested. \n\n\nWe value inclusion and access for all participants. If you would like to request reasonable accommodations to enhance your participation experience\, please email https://mailto: idhub@wid.wisc.edu no later than 2 weeks prior to the event. This event is wheelchair accessible. \n\n\nFull event program: \n \nThe prelude:  \nFrom Eight Etudes-Tableaux\, op. 39 – Sergei Rachmaninoff (1873-1943)  \n8. Allegro moderato (D minor)  \n9. Allegro moderato (D major)  \nChristopher Taylor\, piano\, Mead Witter School of Music \n \nThe lectures:  \nHow Plants Adapt to Climate Change: Lessons from the Last Ice Age  \nJack Williams\, Geography\, Center for Climactic Research \nEggcessive prices: How Markets Develop Prices for the Food We Eat  \nAndrew Stevens\, Agricultural and Applied Economics \nGame Experience Development  \nGary Dahl\, Computer Sciences \nShort Stories in Sound  \nDaniel Grabois\, Mead Witter School of Music \n \nThe performance:  \nSonata no. 2 (1966) – George Walker (1922-2018)  \n1. Theme and variations  \n2. Presto  \n3. Adagio  \n4. Allegretto tranquillo  \nChristopher Taylor\, piano\, Mead Witter School of Music
URL:https://wid.wisc.edu/event/soundwaves-developing-ideas-3/
LOCATION:Hamel Music Center\, 740 University Avenue\, Madison\, WI\, 53706\, United States
CATEGORIES:SoundWaves
ATTACH;FMTTYPE=image/jpeg:https://wid.wisc.edu/wp-content/uploads/2024/08/9254c1f259f5c8c6c89747c3a71a2a93.jpg
END:VEVENT
END:VCALENDAR